Workbook

Sheet Addizione
A1: Es1.
A3: Addizioni
A5: 7 | B5: + | C5: 5 | D5: = | F5: =IF(E5="","calcola",IF(E5=G5,"bravo"," ricalcola")) -> calcola | G5: =A5+C5 -> 12
A6: 14 | B6: + | C6: 6 | D6: = | F6: =IF(E6="","calcola",IF(E6=G6,"bravo"," ricalcola")) -> calcola | G6: =A6+C6 -> 20
A7: 19 | B7: + | C7: 5 | D7: = | F7: =IF(E7="","calcola",IF(E7=G7,"bravo"," ricalcola")) -> calcola | G7: =A7+C7 -> 24
A8: 27 | B8: + | C8: 7 | D8: = | F8: =IF(E8="","calcola",IF(E8=G8,"bravo"," ricalcola")) -> calcola | G8: =A8+C8 -> 34
A9: 38 | B9: + | C9: 8 | D9: = | F9: =IF(E9="","calcola",IF(E9=G9,"bravo"," ricalcola")) -> calcola | G9: =A9+C9 -> 46
A10: 17 | B10: + | C10: 6 | D10: = | F10: =IF(E10="","calcola",IF(E10=G10,"bravo"," ricalcola")) -> calcola | G10: =A10+C10 -> 23
A11: 37 | B11: + | C11: 8 | D11: = | F11: =IF(E11="","calcola",IF(E11=G11,"bravo"," ricalcola")) -> calcola | G11: =A11+C11 -> 45 | I11: =(COUNTIF(F$5:F$17,"bravo")) -> 0
A12: 48 | B12: + | C12: 4 | D12: = | F12: =IF(E12="","calcola",IF(E12=G12,"bravo"," ricalcola")) -> calcola | G12: =A12+C12 -> 52 | I12: =IF(E5:E17="","buon lavoro",(COUNTIF(F$5:F$17,"bravo"))) -> buon lavoro | J12: su 13
A13: 54 | B13: + | C13: 8 | D13: = | F13: =IF(E13="","calcola",IF(E13=G13,"bravo"," ricalcola")) -> calcola | G13: =A13+C13 -> 62 | I13: =IF(E5:E17="","buon lavoro",IF(COUNTIF(F$5:F$17,"bravo")=13,"sei forte hai svolto tutti i calcoli in modo esatto",IF(COUNTIF(F$5:F$17,"bravo")>11," sei forte nell'addizione mentale",IF(COUNTIF(F$5:F$17,"bravo")>8,"sei abbastanza bravo nel calcolo mentale",IF(COUNTIF(F$5:F$17,"bravo")>6,"hai delle difficoltà","non hai la minima voglia di studiare;impegnati e controlla il tuo lavoro"))))) -> buon lavoro
A14: 63 | B14: + | C14: 9 | D14: = | F14: =IF(E14="","calcola",IF(E14=G14,"bravo"," ricalcola")) -> calcola | G14: =A14+C14 -> 72
A15: 25 | B15: + | C15: 6 | D15: = | F15: =IF(E15="","calcola",IF(E15=G15,"bravo"," ricalcola")) -> calcola | G15: =A15+C15 -> 31
A16: 77 | B16: + | C16: 6 | D16: = | F16: =IF(E16="","calcola",IF(E16=G16,"bravo"," ricalcola")) -> calcola | G16: =A16+C16 -> 83
A17: 99 | B17: + | C17: 9 | D17: = | F17: =IF(E17="","calcola",IF(E17=G17,"bravo"," ricalcola")) -> calcola | G17: =A17+C17 -> 108
A20: 50 | B20: + | C20: 70 | D20: = | F20: =IF(E20="","calcola",IF(E20=G20,"bravo"," ricalcola")) -> calcola | G20: =A20+C20 -> 120
A21: 60 | B21: + | C21: 80 | D21: = | F21: =IF(E21="","calcola",IF(E21=G21,"bravo"," ricalcola")) -> calcola | G21: =A21+C21 -> 140
A22: 130 | B22: + | C22: 90 | D22: = | F22: =IF(E22="","calcola",IF(E22=G22,"bravo"," ricalcola")) -> calcola | G22: =A22+C22 -> 220
A23: 170 | B23: + | C23: 30 | D23: = | F23: =IF(E23="","calcola",IF(E23=G23,"bravo"," ricalcola")) -> calcola | G23: =A23+C23 -> 200 | I23: =(COUNTIF(F20:F32,"bravo")) -> 0
A24: 70 | B24: + | C24: 160 | D24: = | F24: =IF(E24="","calcola",IF(E24=G24,"bravo"," ricalcola")) -> calcola | G24: =A24+C24 -> 230 | I24: =IF(E20:E32="","buon lavoro",(COUNTIF(F20:F32,"bravo"))) -> buon lavoro | J24: su 13.
A25: 380 | B25: + | C25: 80 | D25: = | F25: =IF(E25="","calcola",IF(E25=G25,"bravo"," ricalcola")) -> calcola | G25: =A25+C25 -> 460 | I25: =IF(E$20:E$32="","buon lavoro",IF(COUNTIF(F20:F32,"bravo")=13,"sei forte hai svolto tutti i calcoli in modo esatto",IF(COUNTIF(F20:F32,"bravo")>11," sei forte nell'addizione mentale",IF(COUNTIF(F20:F32,"bravo")>8,"sei abbastanza bravo nel calcolo mentale",IF(COUNTIF(F20:F32,"bravo")>6,"hai delle difficoltà","non hai la minima volgia di studiare;impegnati e controlla il tuo lavoro"))))) -> buon lavoro
A26: 250 | B26: + | C26: 60 | D26: = | F26: =IF(E26="","calcola",IF(E26=G26,"bravo"," ricalcola")) -> calcola | G26: =A26+C26 -> 310
A27: 480 | B27: + | C27: 40 | D27: = | F27: =IF(E27="","calcola",IF(E27=G27,"bravo"," ricalcola")) -> calcola | G27: =A27+C27 -> 520
A28: 570 | B28: + | C28: 50 | D28: = | F28: =IF(E28="","calcola",IF(E28=G28,"bravo"," ricalcola")) -> calcola | G28: =A28+C28 -> 620
A29: 640 | B29: + | C29: 300 | D29: = | F29: =IF(E29="","calcola",IF(E29=G29,"bravo"," ricalcola")) -> calcola | G29: =A29+C29 -> 940
A30: 130 | B30: + | C30: 170 | D30: = | F30: =IF(E30="","calcola",IF(E30=G30,"bravo"," ricalcola")) -> calcola | G30: =A30+C30 -> 300
A31: 550 | B31: + | C31: 450 | D31: = | F31: =IF(E31="","calcola",IF(E31=G31,"bravo"," ricalcola")) -> calcola | G31: =A31+C31 -> 1000
A32: 5050 | B32: + | C32: 4050 | D32: = | F32: =IF(E32="","calcola",IF(E32=G32,"bravo"," ricalcola")) -> calcola | G32: =A32+C32 -> 9100
E37: Totale punti | F37: =I11+I23 -> 0 | H37: su 26

Sheet Sottrazione
A1: Es2.
A3: Sottrazione.
A5: 7 | B5: - | C5: 5 | D5: = | F5: =IF(E5="","calcola",IF(E5=G5,"bravo"," ricalcola")) -> calcola | G5: =A5-C5 -> 2
A6: 14 | B6: - | C6: 6 | D6: = | F6: =IF(E6="","calcola",IF(E6=G6,"bravo"," ricalcola")) -> calcola | G6: =A6-C6 -> 8
A7: 19 | B7: - | C7: 5 | D7: = | F7: =IF(E7="","calcola",IF(E7=G7,"bravo"," ricalcola")) -> calcola | G7: =A7-C7 -> 14
A8: 27 | B8: - | C8: 7 | D8: = | F8: =IF(E8="","calcola",IF(E8=G8,"bravo"," ricalcola")) -> calcola | G8: =A8-C8 -> 20
A9: 38 | B9: - | C9: 8 | D9: = | F9: =IF(E9="","calcola",IF(E9=G9,"bravo"," ricalcola")) -> calcola | G9: =A9-C9 -> 30
A10: 17 | B10: - | C10: 6 | D10: = | F10: =IF(E10="","calcola",IF(E10=G10,"bravo"," ricalcola")) -> calcola | G10: =A10-C10 -> 11
A11: 37 | B11: - | C11: 8 | D11: = | F11: =IF(E11="","calcola",IF(E11=G11,"bravo"," ricalcola")) -> calcola | G11: =A11-C11 -> 29 | I11: =(COUNTIF(F$5:F$17,"bravo")) -> 0
A12: 48 | B12: - | C12: 4 | D12: = | F12: =IF(E12="","calcola",IF(E12=G12,"bravo"," ricalcola")) -> calcola | G12: =A12-C12 -> 44 | I12: =IF(E5:E17="","buon lavoro",(COUNTIF(F$5:F$17,"bravo"))) -> buon lavoro | J12: su 13
A13: 54 | B13: - | C13: 8 | D13: = | F13: =IF(E13="","calcola",IF(E13=G13,"bravo"," ricalcola")) -> calcola | G13: =A13-C13 -> 46 | I13: =IF(E5:E17="","buon lavoro",IF(COUNTIF(F$5:F$17,"bravo")=13,"sei forte hai svolto tutti i calcoli in modo esatto",IF(COUNTIF(F$5:F$17,"bravo")>11," sei forte nella sottrazione mentale",IF(COUNTIF(F$5:F$17,"bravo")>8,"sei abbastanza bravo nel calcolo mentale",IF(COUNTIF(F$5:F$17,"bravo")>6,"hai delle difficoltà","non hai la minima volgia di studiare;impegnati e controlla il tuo lavoro"))))) -> buon lavoro
A14: 63 | B14: - | C14: 9 | D14: = | F14: =IF(E14="","calcola",IF(E14=G14,"bravo"," ricalcola")) -> calcola | G14: =A14-C14 -> 54
A15: 25 | B15: - | C15: 6 | D15: = | F15: =IF(E15="","calcola",IF(E15=G15,"bravo"," ricalcola")) -> calcola | G15: =A15-C15 -> 19
A16: 74 | B16: - | C16: 6 | D16: = | F16: =IF(E16="","calcola",IF(E16=G16,"bravo"," ricalcola")) -> calcola | G16: =A16-C16 -> 68
A17: 91 | B17: - | C17: 9 | D17: = | F17: =IF(E17="","calcola",IF(E17=G17,"bravo"," ricalcola")) -> calcola | G17: =A17-C17 -> 82
A20: 150 | B20: - | C20: 70 | D20: = | F20: =IF(E20="","calcola",IF(E20=G20,"bravo"," ricalcola")) -> calcola | G20: =A20-C20 -> 80
A21: 160 | B21: - | C21: 80 | D21: = | F21: =IF(E21="","calcola",IF(E21=G21,"bravo"," ricalcola")) -> calcola | G21: =A21-C21 -> 80
A22: 130 | B22: - | C22: 90 | D22: = | F22: =IF(E22="","calcola",IF(E22=G22,"bravo"," ricalcola")) -> calcola | G22: =A22-C22 -> 40
A23: 170 | B23: - | C23: 30 | D23: = | F23: =IF(E23="","calcola",IF(E23=G23,"bravo"," ricalcola")) -> calcola | G23: =A23-C23 -> 140 | I23: =(COUNTIF(F20:F32,"bravo")) -> 0
A24: 470 | B24: - | C24: 160 | D24: = | F24: =IF(E24="","calcola",IF(E24=G24,"bravo"," ricalcola")) -> calcola | G24: =A24-C24 -> 310 | I24: =IF(E20:E32="","buon lavoro",(COUNTIF(F20:F32,"bravo"))) -> buon lavoro | J24: su 13.
A25: 380 | B25: - | C25: 80 | D25: = | F25: =IF(E25="","calcola",IF(E25=G25,"bravo"," ricalcola")) -> calcola | G25: =A25-C25 -> 300 | I25: =IF(E$20:E$32="","buon lavoro",IF(COUNTIF(F20:F32,"bravo")=13,"sei forte hai svolto tutti i calcoli in modo esatto",IF(COUNTIF(F20:F32,"bravo")>11," sei forte nella sottrazione mentale",IF(COUNTIF(F20:F32,"bravo")>8,"sei abbastanza bravo nel calcolo mentale",IF(COUNTIF(F20:F32,"bravo")>6,"hai delle difficoltà","non hai la minima volgia di studiare;impegnati e controlla il tuo lavoro"))))) -> buon lavoro
A26: 250 | B26: - | C26: 60 | D26: = | F26: =IF(E26="","calcola",IF(E26=G26,"bravo"," ricalcola")) -> calcola | G26: =A26-C26 -> 190
A27: 480 | B27: - | C27: 40 | D27: = | F27: =IF(E27="","calcola",IF(E27=G27,"bravo"," ricalcola")) -> calcola | G27: =A27-C27 -> 440
A28: 570 | B28: - | C28: 50 | D28: = | F28: =IF(E28="","calcola",IF(E28=G28,"bravo"," ricalcola")) -> calcola | G28: =A28-C28 -> 520
A29: 640 | B29: - | C29: 300 | D29: = | F29: =IF(E29="","calcola",IF(E29=G29,"bravo"," ricalcola")) -> calcola | G29: =A29-C29 -> 340
A30: 330 | B30: - | C30: 170 | D30: = | F30: =IF(E30="","calcola",IF(E30=G30,"bravo"," ricalcola")) -> calcola | G30: =A30-C30 -> 160
A31: 550 | B31: - | C31: 450 | D31: = | F31: =IF(E31="","calcola",IF(E31=G31,"bravo"," ricalcola")) -> calcola | G31: =A31-C31 -> 100
A32: 5550 | B32: - | C32: 4050 | D32: = | F32: =IF(E32="","calcola",IF(E32=G32,"bravo"," ricalcola")) -> calcola | G32: =A32-C32 -> 1500
E37: Totale punti | F37: =I11+I23 -> 0 | H37: su 26

Sheet Moltiplicazione
A1: Es3.
A3: Moltiplicazione
A5: 2 | B5: * | C5: 13 | D5: = | F5: =IF(E5="","calcola",IF(E5=G5,"bravo"," ricalcola")) -> calcola | G5: =A5*C5 -> 26
A6: 3 | B6: * | C6: 12 | D6: = | F6: =IF(E6="","calcola",IF(E6=G6,"bravo"," ricalcola")) -> calcola | G6: =A6*C6 -> 36
A7: 4 | B7: * | C7: 11 | D7: = | F7: =IF(E7="","calcola",IF(E7=G7,"bravo"," ricalcola")) -> calcola | G7: =A7*C7 -> 44
A8: 5 | B8: * | C8: 14 | D8: = | F8: =IF(E8="","calcola",IF(E8=G8,"bravo"," ricalcola")) -> calcola | G8: =A8*C8 -> 70
A9: 6 | B9: * | C9: 9 | D9: = | F9: =IF(E9="","calcola",IF(E9=G9,"bravo"," ricalcola")) -> calcola | G9: =A9*C9 -> 54
A10: 7 | B10: * | C10: 8 | D10: = | F10: =IF(E10="","calcola",IF(E10=G10,"bravo"," ricalcola")) -> calcola | G10: =A10*C10 -> 56
A11: 8 | B11: * | C11: 7 | D11: = | F11: =IF(E11="","calcola",IF(E11=G11,"bravo"," ricalcola")) -> calcola | G11: =A11*C11 -> 56 | I11: =(COUNTIF(F$5:F$17,"bravo")) -> 0
A12: 9 | B12: * | C12: 6 | D12: = | F12: =IF(E12="","calcola",IF(E12=G12,"bravo"," ricalcola")) -> calcola | G12: =A12*C12 -> 54 | I12: =IF(E5:E17="","buon lavoro",(COUNTIF(F$5:F$17,"bravo"))) -> buon lavoro | J12: su 13
A13: 10 | B13: * | C13: 0 | D13: = | F13: =IF(E13="","calcola",IF(E13=G13,"bravo"," ricalcola")) -> calcola | G13: 0 | I13: =IF(E5:E17="","buon lavoro",IF(COUNTIF(F$5:F$17,"bravo")=13,"sei forte hai svolto tutti i calcoli in modo esatto",IF(COUNTIF(F$5:F$17,"bravo")>11," sei forte nella moltiplicazione mentale",IF(COUNTIF(F$5:F$17,"bravo")>8,"sei abbastanza bravo nel calcolo mentale",IF(COUNTIF(F$5:F$17,"bravo")>6,"hai delle difficoltà","non hai la minima volgia di studiare;impegnati e controlla il tuo lavoro"))))) -> buon lavoro
A14: 11 | B14: * | C14: 1 | D14: = | F14: =IF(E14="","calcola",IF(E14=G14,"bravo"," ricalcola")) -> calcola | G14: =A14*C14 -> 11
A15: 12 | B15: * | C15: 5 | D15: = | F15: =IF(E15="","calcola",IF(E15=G15,"bravo"," ricalcola")) -> calcola | G15: =A15*C15 -> 60
A16: 13 | B16: * | C16: 3 | D16: = | F16: =IF(E16="","calcola",IF(E16=G16,"bravo"," ricalcola")) -> calcola | G16: =A16*C16 -> 39
A17: 14 | B17: * | C17: 7 | D17: = | F17: =IF(E17="","calcola",IF(E17=G17,"bravo"," ricalcola")) -> calcola | G17: =A17*C17 -> 98
A20: 6 | B20: * | C20: 100 | D20: = | F20: =IF(E20="","calcola",IF(E20=G20,"bravo"," ricalcola")) -> calcola | G20: =A20*C20 -> 600
A21: 11 | B21: * | C21: 10 | D21: = | F21: =IF(E21="","calcola",IF(E21=G21,"bravo"," ricalcola")) -> calcola | G21: =A21*C21 -> 110
A22: 37 | B22: * | C22: 100 | D22: = | F22: =IF(E22="","calcola",IF(E22=G22,"bravo"," ricalcola")) -> calcola | G22: =A22*C22 -> 3700
A23: 3.9 | B23: * | C23: 10 | D23: = | F23: =IF(E23="","calcola",IF(E23=G23,"bravo"," ricalcola")) -> calcola | G23: =A23*C23 -> 39 | I23: =(COUNTIF(F20:F32,"bravo")) -> 0
A24: 0.28 | B24: * | C24: 100 | D24: = | F24: =IF(E24="","calcola",IF(E24=G24,"bravo"," ricalcola")) -> calcola | G24: =A24*C24 -> 28 | I24: =IF(E20:E32="","buon lavoro",(COUNTIF(F20:F32,"bravo"))) -> buon lavoro
A25: 4.7 | B25: * | C25: 1000 | D25: = | F25: =IF(E25="","calcola",IF(E25=G25,"bravo"," ricalcola")) -> calcola | G25: =A25*C25 -> 4700 | I25: =IF(E$20:E$32="","buon lavoro",IF(COUNTIF(F20:F32,"bravo")=13,"sei forte hai svolto tutti i calcoli in modo esatto",IF(COUNTIF(F20:F32,"bravo")>11," sei forte nella moltiplicazione a mente",IF(COUNTIF(F20:F32,"bravo")>8,"sei abbastanza bravo nel calcolo mentale",IF(COUNTIF(F20:F32,"bravo")>6,"hai delle difficoltà","non hai la minima volgia di studiare;impegnati e controlla il tuo lavoro"))))) -> buon lavoro
A26: 9 | B26: * | C26: 0.1 | D26: = | F26: =IF(E26="","calcola",IF(E26=G26,"bravo"," ricalcola")) -> calcola | G26: =A26*C26 -> 0.9
A27: 36 | B27: * | C27: 0.1 | D27: = | F27: =IF(E27="","calcola",IF(E27=G27,"bravo"," ricalcola")) -> calcola | G27: =A27*C27 -> 3.6
A28: 434 | B28: * | C28: 0.01 | D28: = | F28: =IF(E28="","calcola",IF(E28=G28,"bravo"," ricalcola")) -> calcola | G28: =A28*C28 -> 4.34
A29: 7 | B29: * | C29: 0.001 | D29: = | F29: =IF(E29="","calcola",IF(E29=G29,"bravo"," ricalcola")) -> calcola | G29: =A29*C29 -> 0.007
A30: 547 | B30: * | C30: 0.01 | D30: = | F30: =IF(E30="","calcola",IF(E30=G30,"bravo"," ricalcola")) -> calcola | G30: =A30*C30 -> 5.47
A31: 0.75 | B31: * | C31: 0.1 | D31: = | F31: =IF(E31="","calcola",IF(E31=G31,"bravo"," ricalcola")) -> calcola | G31: =A31*C31 -> 0.075
A32: 81 | B32: * | C32: 0.001 | D32: = | F32: =IF(E32="","calcola",IF(E32=G32,"bravo"," ricalcola")) -> calcola | G32: =A32*C32 -> 0.081
E37: Totale punti | F37: =I11+I23 -> 0 | H37: su 26

Sheet Divisione
A1: Es4.
A3: Divisione
A5: 56 | B5: : | C5: 7 | D5: = | F5: =IF(E5="","calcola",IF(E5=G5,"bravo"," ricalcola")) -> calcola | G5: =A5/C5 -> 8
A6: 63 | B6: : | C6: 9 | D6: = | F6: =IF(E6="","calcola",IF(E6=G6,"bravo"," ricalcola")) -> calcola | G6: =A6/C6 -> 7
A7: 36 | B7: : | C7: 6 | D7: = | F7: =IF(E7="","calcola",IF(E7=G7,"bravo"," ricalcola")) -> calcola | G7: =A7/C7 -> 6
A8: 49 | B8: : | C8: 7 | D8: = | F8: =IF(E8="","calcola",IF(E8=G8,"bravo"," ricalcola")) -> calcola | G8: =A8/C8 -> 7
A9: 64 | B9: : | C9: 8 | D9: = | F9: =IF(E9="","calcola",IF(E9=G9,"bravo"," ricalcola")) -> calcola | G9: =A9/C9 -> 8
A10: 45 | B10: : | C10: 5 | D10: = | F10: =IF(E10="","calcola",IF(E10=G10,"bravo"," ricalcola")) -> calcola | G10: =A10/C10 -> 9
A11: 27 | B11: : | C11: 9 | D11: = | F11: =IF(E11="","calcola",IF(E11=G11,"bravo"," ricalcola")) -> calcola | G11: =A11/C11 -> 3 | I11: =(COUNTIF(F$5:F$17,"bravo")) -> 0
A12: 80 | B12: : | C12: 5 | D12: = | F12: =IF(E12="","calcola",IF(E12=G12,"bravo"," ricalcola")) -> calcola | G12: =A12/C12 -> 16 | I12: =IF(E5:E17="","buon lavoro",(COUNTIF(F$5:F$17,"bravo"))) -> buon lavoro | J12: su 13
A13: 45 | B13: : | C13: 3 | D13: = | F13: =IF(E13="","calcola",IF(E13=G13,"bravo"," ricalcola")) -> calcola | G13: =A13/C13 -> 15 | I13: =IF(E5:E17="","buon lavoro",IF(COUNTIF(F$5:F$17,"bravo")=13,"sei forte hai svolto tutti i calcoli in modo esatto",IF(COUNTIF(F$5:F$17,"bravo")>11," sei forte nella divisione mentale",IF(COUNTIF(F$5:F$17,"bravo")>8,"sei abbastanza bravo nel calcolo mentale",IF(COUNTIF(F$5:F$17,"bravo")>6,"hai delle difficoltà","non hai la minima volgia di studiare;impegnati e controlla il tuo lavoro"))))) -> buon lavoro
A14: 48 | B14: : | C14: 4 | D14: = | F14: =IF(E14="","calcola",IF(E14=G14,"bravo"," ricalcola")) -> calcola | G14: =A14/C14 -> 12
A15: 39 | B15: : | C15: 3 | D15: = | F15: =IF(E15="","calcola",IF(E15=G15,"bravo"," ricalcola")) -> calcola | G15: =A15/C15 -> 13
A16: 60 | B16: : | C16: 5 | D16: = | F16: =IF(E16="","calcola",IF(E16=G16,"bravo"," ricalcola")) -> calcola | G16: =A16/C16 -> 12
A17: 140 | B17: : | C17: 7 | D17: = | F17: =IF(E17="","calcola",IF(E17=G17,"bravo"," ricalcola")) -> calcola | G17: =A17/C17 -> 20
A20: 60 | B20: : | C20: 10 | D20: = | F20: =IF(E20="","calcola",IF(E20=G20,"bravo"," ricalcola")) -> calcola | G20: =A20/C20 -> 6
A21: 700 | B21: : | C21: 100 | D21: = | F21: =IF(E21="","calcola",IF(E21=G21,"bravo"," ricalcola")) -> calcola | G21: =A21/C21 -> 7
A22: 65 | B22: : | C22: 10 | D22: = | F22: =IF(E22="","calcola",IF(E22=G22,"bravo"," ricalcola")) -> calcola | G22: =A22/C22 -> 6.5
A23: 83 | B23: : | C23: 100 | D23: = | F23: =IF(E23="","calcola",IF(E23=G23,"bravo"," ricalcola")) -> calcola | G23: =A23/C23 -> 0.83 | I23: =(COUNTIF(F20:F32,"bravo")) -> 0
A24: 940 | B24: : | C24: 1000 | D24: = | F24: =IF(E24="","calcola",IF(E24=G24,"bravo"," ricalcola")) -> calcola | G24: =A24/C24 -> 0.94 | I24: =IF(E20:E32="","buon lavoro",(COUNTIF(F20:F32,"bravo"))) -> buon lavoro
A25: 0.2 | B25: : | C25: 10 | D25: = | F25: =IF(E25="","calcola",IF(E25=G25,"bravo"," ricalcola")) -> calcola | G25: =A25/C25 -> 0.02 | I25: =IF(E$20:E$32="","buon lavoro",IF(COUNTIF(F20:F32,"bravo")=13,"sei forte hai svolto tutti i calcoli in modo esatto",IF(COUNTIF(F20:F32,"bravo")>11," sei forte nella divisione mentale",IF(COUNTIF(F20:F32,"bravo")>8,"sei abbastanza bravo nel calcolo mentale",IF(COUNTIF(F20:F32,"bravo")>6,"hai delle difficoltà","non hai la minima volgia di studiare;impegnati e controlla il tuo lavoro"))))) -> buon lavoro
A26: 1.5 | B26: : | C26: 10 | D26: = | F26: =IF(E26="","calcola",IF(E26=G26,"bravo"," ricalcola")) -> calcola | G26: =A26/C26 -> 0.15
A27: 56.3 | B27: : | C27: 1000 | D27: = | F27: =IF(E27="","calcola",IF(E27=G27,"bravo"," ricalcola")) -> calcola | G27: =A27/C27 -> 0.0563
A28: 29 | B28: : | C28: 10000 | D28: = | F28: =IF(E28="","calcola",IF(E28=G28,"bravo"," ricalcola")) -> calcola | G28: =A28/C28 -> 0.0029
A29: 7.8 | B29: : | C29: 10 | D29: = | F29: =IF(E29="","calcola",IF(E29=G29,"bravo"," ricalcola")) -> calcola | G29: =A29/C29 -> 0.78
A30: 15 | B30: : | C30: 100 | D30: = | F30: =IF(E30="","calcola",IF(E30=G30,"bravo"," ricalcola")) -> calcola | G30: =A30/C30 -> 0.15
A31: 0.7 | B31: : | C31: 10 | D31: = | F31: =IF(E31="","calcola",IF(E31=G31,"bravo"," ricalcola")) -> calcola | G31: =A31/C31 -> 0.07
A32: 0.21 | B32: : | C32: 100 | D32: = | F32: =IF(E32="","calcola",IF(E32=G32,"bravo"," ricalcola")) -> calcola | G32: =A32/C32 -> 0.0021
E37: Totale punti | F37: =I11+I23 -> 0 | H37: su 26

Sheet Quadrati   < =20
A2: Quadrati di un numero minore uguale a 20.
A4: Numero | B4: Quadrato | C4: Quadrato
A5: 0 | D5: =IF(B5="","calcola",IF(B5=C5,"bravo"," ricalcola")) -> calcola
A6: 1 | C6: =A6^2 -> 1 | D6: =IF(B6="","calcola",IF(B6=C6,"bravo"," ricalcola")) -> calcola
A7: 2 | C7: =A7^2 -> 4 | D7: =IF(B7="","calcola",IF(B7=C7,"bravo"," ricalcola")) -> calcola
A8: 3 | C8: =A8^2 -> 9 | D8: =IF(B8="","calcola",IF(B8=C8,"bravo"," ricalcola")) -> calcola
A9: 4 | C9: =A9^2 -> 16 | D9: =IF(B9="","calcola",IF(B9=C9,"bravo"," ricalcola")) -> calcola
A10: 5 | C10: =A10^2 -> 25 | D10: =IF(B10="","calcola",IF(B10=C10,"bravo"," ricalcola")) -> calcola
A11: 6 | C11: =A11^2 -> 36 | D11: =IF(B11="","calcola",IF(B11=C11,"bravo"," ricalcola")) -> calcola
A12: 7 | C12: =A12^2 -> 49 | D12: =IF(B12="","calcola",IF(B12=C12,"bravo"," ricalcola")) -> calcola | G12: =(COUNTIF(D$5:D$25,"bravo")) -> 0
A13: 8 | C13: =A13^2 -> 64 | D13: =IF(B13="","calcola",IF(B13=C13,"bravo"," ricalcola")) -> calcola | G13: =IF(C6:C18="","buon lavoro",(COUNTIF(D$5:D$25,"bravo"))) -> 0 | H13: su 21
A14: 9 | C14: =A14^2 -> 81 | D14: =IF(B14="","calcola",IF(B14=C14,"bravo"," ricalcola")) -> calcola | G14: =IF(C6:C18="","buon lavoro",IF(COUNTIF(D$5:D$25,"bravo")=13,"sei forte hai svolto tutti i calcoli in modo esatto",IF(COUNTIF(D$5:D$17,"bravo")>11," sei forte nel calcolo dei quadrati",IF(COUNTIF(D$5:D$17,"bravo")>8,"sei abbastanza bravo nel calcolo mentale",IF(COUNTIF(D$5:D$17,"bravo")>6,"hai delle difficoltà","non hai la minima volgia di studiare;impegnati e controlla il tuo lavoro"))))) -> non hai la minima volgia di studiare;impegnati e controlla il tuo lavoro
A15: 10 | C15: =A15^2 -> 100 | D15: =IF(B15="","calcola",IF(B15=C15,"bravo"," ricalcola")) -> calcola
A16: 11 | C16: =A16^2 -> 121 | D16: =IF(B16="","calcola",IF(B16=C16,"bravo"," ricalcola")) -> calcola
A17: 12 | C17: =A17^2 -> 144 | D17: =IF(B17="","calcola",IF(B17=C17,"bravo"," ricalcola")) -> calcola
A18: 13 | C18: =A18^2 -> 169 | D18: =IF(B18="","calcola",IF(B18=C18,"bravo"," ricalcola")) -> calcola
A19: 14 | C19: =A19^2 -> 196 | D19: =IF(B19="","calcola",IF(B19=C19,"bravo"," ricalcola")) -> calcola
A20: 15 | C20: =A20^2 -> 225 | D20: =IF(B20="","calcola",IF(B20=C20,"bravo"," ricalcola")) -> calcola
A21: 16 | C21: =A21^2 -> 256 | D21: =IF(B21="","calcola",IF(B21=C21,"bravo"," ricalcola")) -> calcola
A22: 17 | C22: =A22^2 -> 289 | D22: =IF(B22="","calcola",IF(B22=C22,"bravo"," ricalcola")) -> calcola
A23: 18 | C23: =A23^2 -> 324 | D23: =IF(B23="","calcola",IF(B23=C23,"bravo"," ricalcola")) -> calcola
A24: 19 | C24: =A24^2 -> 361 | D24: =IF(B24="","calcola",IF(B24=C24,"bravo"," ricalcola")) -> calcola
A25: 20 | C25: =A25^2 -> 400 | D25: =IF(B25="","calcola",IF(B25=C25,"bravo"," ricalcola")) -> calcola

Sheet Quadrati  multipli di 5 < 100
A2: Quadrati di un numero multiplo di 5.
A4: Numero | B4: Quadrato | C4: Quadrato
A5: 5 | C5: =A5^2 -> 25 | D5: =IF(B5="","calcola",IF(B5=C5,"bravo"," ricalcola")) -> calcola
A6: 15 | C6: =A6^2 -> 225 | D6: =IF(B6="","calcola",IF(B6=C6,"bravo"," ricalcola")) -> calcola
A7: 25 | C7: =A7^2 -> 625 | D7: =IF(B7="","calcola",IF(B7=C7,"bravo"," ricalcola")) -> calcola
A8: 35 | C8: =A8^2 -> 1225 | D8: =IF(B8="","calcola",IF(B8=C8,"bravo"," ricalcola")) -> calcola
A9: 45 | C9: =A9^2 -> 2025 | D9: =IF(B9="","calcola",IF(B9=C9,"bravo"," ricalcola")) -> calcola
A10: 55 | C10: =A10^2 -> 3025 | D10: =IF(B10="","calcola",IF(B10=C10,"bravo"," ricalcola")) -> calcola
A11: 65 | C11: =A11^2 -> 4225 | D11: =IF(B11="","calcola",IF(B11=C11,"bravo"," ricalcola")) -> calcola
A12: 75 | C12: =A12^2 -> 5625 | D12: =IF(B12="","calcola",IF(B12=C12,"bravo"," ricalcola")) -> calcola
A13: 85 | C13: =A13^2 -> 7225 | D13: =IF(B13="","calcola",IF(B13=C13,"bravo"," ricalcola")) -> calcola | G13: =IF(C6:C18="","buon lavoro",(COUNTIF(D$5:D$25,"bravo"))) -> 0 | H13: su 12
A14: 95 | C14: =A14^2 -> 9025 | D14: =IF(B14="","calcola",IF(B14=C14,"bravo"," ricalcola")) -> calcola | G14: =IF(C6:C16="","buon lavoro",IF(COUNTIF(D$5:D$16,"bravo")=13,"sei forte hai svolto tutti i calcoli in modo esatto",IF(COUNTIF(D$5:D$16,"bravo")>11," sei forte nel calcolo dei quadrati di 5",IF(COUNTIF(D$5:D$17,"bravo")>8,"sei abbastanza bravo nel calcolo mentale",IF(COUNTIF(D$5:D$17,"bravo")>6,"hai delle difficoltà","non hai la minima volgia di studiare;impegnati e controlla il tuo lavoro"))))) -> non hai la minima volgia di studiare;impegnati e controlla il tuo lavoro
A15: 105 | C15: =A15^2 -> 11025 | D15: =IF(B15="","calcola",IF(B15=C15,"bravo"," ricalcola")) -> calcola
A16: 205 | C16: =A16^2 -> 42025 | D16: =IF(B16="","calcola",IF(B16=C16,"bravo"," ricalcola")) -> calcola

Sheet Proprietà
A1: LE PROPRIETA' DELLE OPERAZIONI.
F2: NOME
D3: TRUE | E3: FALSE | F3: PROPRIETA'
A4: 14 * 15 | B4: = | C4: 15 * 14 | G4: =IF(F4="commutativa","esatto", "ripensaci") -> ripensaci
A7: 14 + ( 15 + 16) | B7: = | C7: (14 + 15 ) + 16 | G7: =IF(F7="associativa","esatto", IF(F7="commutativa","hai fatto confusione","ripensaci")) -> ripensaci
I8: =(COUNTIF(G4:G16,"esatto")) -> 0
I9: Valutazione finale:
A10: 120 : 6 = 120 : ( 4 + 2) | B10: = | C10: ( 120 : 4 ) + (120 : 2 ) | G10: =IF(F10="non esiste","esatto", IF(F10="commutativa","hai fatto confusione","ripensaci")) -> ripensaci | I10: =IF(F4:F16="","buon lavoro",IF(COUNTIF(G4:G16,"esatto")=4,"sei forte conosci le proprietà delle operazioni",IF(COUNTIF(G4:G16,"esatto")=3," sei abastanza bravo, ma devi curare i dettagli",IF(COUNTIF(G4:G16,"esatto")=2,"devi studiare le due proprietà che non conosci",IF(COUNTIF(G1:G4,"esatto")=1,"hai delle difficoltà","non hai la minima volgia di studiare;impegnati e controlla il tuo lavoro"))))) -> buon lavoro
A13: 38 . 9 = (30 + 8) .9 | B13: = | C13: 30 . 9 + 8 . 9 | G13: =IF(F13="distributiva","esatto", IF(F13="commutativa","hai fatto confusione","ripensaci")) -> ripensaci
A16: 97 - 28 = ( 97 + 3) - (28 + 3) | B16: = | C16: 100 -31 | G16: =IF(F16="invariantiva","esatto", IF(F16="associativa","hai fatto confusione","ripensaci")) -> ripensaci
D25: Addizione | E25: Sottrazione | F25: Moltiplicazione | G25: Divisione | H25: Proprietà | I25: Quadrati < 20 | J25: Quadrati M5 | K25: Totale Punti
C26: Totale punti verifica | D26: =Addizione!$F$37 -> 0 | E26: =Sottrazione!$F$37 -> 0 | F26: =Moltiplicazione!$F$37 -> 0 | G26: =Divisione!$F$37 -> 0 | H26: =$I$8 -> 0 | I26: ='Quadrati < =20'!$G$13 -> 0 | J26: ='Quadrati multipli di 5 < 100'!$G$13 -> 0 | K26: =SUM(F26:J26) -> 0
